BEGIN:VCALENDAR
VERSION:2.0
PRODID:-//Rochester Regional Breastfeeding Coalition - ECPv6.15.17.1//NONSGML v1.0//EN
CALSCALE:GREGORIAN
METHOD:PUBLISH
X-ORIGINAL-URL:https://rochesterregionalbreastfeedingcoalition.com
X-WR-CALDESC:Events for Rochester Regional Breastfeeding Coalition
REFRESH-INTERVAL;VALUE=DURATION:PT1H
X-Robots-Tag:noindex
X-PUBLISHED-TTL:PT1H
BEGIN:VTIMEZONE
TZID:America/New_York
BEGIN:DAYLIGHT
TZOFFSETFROM:-0500
TZOFFSETTO:-0400
TZNAME:EDT
DTSTART:20160313T070000
END:DAYLIGHT
BEGIN:STANDARD
TZOFFSETFROM:-0400
TZOFFSETTO:-0500
TZNAME:EST
DTSTART:20161106T060000
END:STANDARD
BEGIN:DAYLIGHT
TZOFFSETFROM:-0500
TZOFFSETTO:-0400
TZNAME:EDT
DTSTART:20170312T070000
END:DAYLIGHT
BEGIN:STANDARD
TZOFFSETFROM:-0400
TZOFFSETTO:-0500
TZNAME:EST
DTSTART:20171105T060000
END:STANDARD
BEGIN:DAYLIGHT
TZOFFSETFROM:-0500
TZOFFSETTO:-0400
TZNAME:EDT
DTSTART:20180311T070000
END:DAYLIGHT
BEGIN:STANDARD
TZOFFSETFROM:-0400
TZOFFSETTO:-0500
TZNAME:EST
DTSTART:20181104T060000
END:STANDARD
END:VTIMEZONE
BEGIN:VEVENT
DTSTART;TZID=America/New_York:20170825T080000
DTEND;TZID=America/New_York:20170831T170000
DTSTAMP:20260419T154308
CREATED:20170721T192925Z
LAST-MODIFIED:20170721T192925Z
UID:5110-1503648000-1504198800@rochesterregionalbreastfeedingcoalition.com
SUMMARY:4th Annual Black Breastfeeding Week
DESCRIPTION:This year’s theme is “bet on black\,” about “spotlighting the sweet joy of family bonds and perseverance.”
URL:https://rochesterregionalbreastfeedingcoalition.com/event/4th-annual-black-breastfeeding-week/
END:VEVENT
BEGIN:VEVENT
DTSTART;TZID=America/New_York:20170825T080000
DTEND;TZID=America/New_York:20170831T170000
DTSTAMP:20260419T154308
CREATED:20170721T192925Z
LAST-MODIFIED:20170721T192925Z
UID:5447-1503648000-1504198800@rochesterregionalbreastfeedingcoalition.com
SUMMARY:4th Annual Black Breastfeeding Week
DESCRIPTION:This year’s theme is “bet on black\,” about “spotlighting the sweet joy of family bonds and perseverance.”
URL:https://rochesterregionalbreastfeedingcoalition.com/event/4th-annual-black-breastfeeding-week-2/
END:VEVENT
BEGIN:VEVENT
DTSTART;TZID=America/New_York:20170825T080000
DTEND;TZID=America/New_York:20170831T170000
DTSTAMP:20260419T154308
CREATED:20170721T192925Z
LAST-MODIFIED:20170721T192925Z
UID:5972-1503648000-1504198800@rochesterregionalbreastfeedingcoalition.com
SUMMARY:4th Annual Black Breastfeeding Week
DESCRIPTION:This year’s theme is “bet on black\,” about “spotlighting the sweet joy of family bonds and perseverance.”
URL:https://rochesterregionalbreastfeedingcoalition.com/event/4th-annual-black-breastfeeding-week-3/
END:VEVENT
BEGIN:VEVENT
DTSTART;TZID=America/New_York:20170825T080000
DTEND;TZID=America/New_York:20170831T170000
DTSTAMP:20260419T154308
CREATED:20170721T192925Z
LAST-MODIFIED:20170721T192925Z
UID:5983-1503648000-1504198800@rochesterregionalbreastfeedingcoalition.com
SUMMARY:4th Annual Black Breastfeeding Week
DESCRIPTION:This year’s theme is “bet on black\,” about “spotlighting the sweet joy of family bonds and perseverance.”
URL:https://rochesterregionalbreastfeedingcoalition.com/event/4th-annual-black-breastfeeding-week-2-2/
END:VEVENT
BEGIN:VEVENT
DTSTART;TZID=America/New_York:20170827T110000
DTEND;TZID=America/New_York:20170827T150000
DTSTAMP:20260419T154308
CREATED:20170818T192438Z
LAST-MODIFIED:20170818T192438Z
UID:5450-1503831600-1503846000@rochesterregionalbreastfeedingcoalition.com
SUMMARY:ROC Live\, Love Latch!
DESCRIPTION:Hosted by La Leche League of Rochester\, NY\nLa Leche League of Rochester is hosting this Live Love Latch in celebration of National Breastfeeding Month!\nAll in attendance will be counted as participants\, who declare their support of breastfeeding in their local community and beyond! Anyone will be counted\, whether breastfeeding or not.\nThis is a potluck event. Please bring a dish to share. Dinnerware will be provided.\nwww.PerfectPotluck.com/YIAT1376\nWe will have goodie bags and demos\, a playground and crafts for the kids!
URL:https://rochesterregionalbreastfeedingcoalition.com/event/roc-live-love-latch-2/
LOCATION:Tinker Nature Park\, 1525 Calkins Rd\, Tyler Pavillion\, Henrietta\, NY\, 14467\, United States
END:VEVENT
BEGIN:VEVENT
DTSTART;TZID=America/New_York:20170827T110000
DTEND;TZID=America/New_York:20170827T150000
DTSTAMP:20260419T154308
CREATED:20170818T192438Z
LAST-MODIFIED:20170818T192438Z
UID:5118-1503831600-1503846000@rochesterregionalbreastfeedingcoalition.com
SUMMARY:ROC Live\, Love Latch!
DESCRIPTION:Hosted by La Leche League of Rochester\, NY\nLa Leche League of Rochester is hosting this Live Love Latch in celebration of National Breastfeeding Month!\nAll in attendance will be counted as participants\, who declare their support of breastfeeding in their local community and beyond! Anyone will be counted\, whether breastfeeding or not.\nThis is a potluck event. Please bring a dish to share. Dinnerware will be provided.\nwww.PerfectPotluck.com/YIAT1376\nWe will have goodie bags and demos\, a playground and crafts for the kids!
URL:https://rochesterregionalbreastfeedingcoalition.com/event/roc-live-love-latch/
LOCATION:Tinker Nature Park\, 1525 Calkins Rd\, Tyler Pavillion\, Henrietta\, NY\, 14467\, United States
END:VEVENT
BEGIN:VEVENT
DTSTART;TZID=America/New_York:20170827T110000
DTEND;TZID=America/New_York:20170827T150000
DTSTAMP:20260419T154308
CREATED:20170818T192438Z
LAST-MODIFIED:20170818T192438Z
UID:5975-1503831600-1503846000@rochesterregionalbreastfeedingcoalition.com
SUMMARY:ROC Live\, Love Latch!
DESCRIPTION:Hosted by La Leche League of Rochester\, NY\nLa Leche League of Rochester is hosting this Live Love Latch in celebration of National Breastfeeding Month!\nAll in attendance will be counted as participants\, who declare their support of breastfeeding in their local community and beyond! Anyone will be counted\, whether breastfeeding or not.\nThis is a potluck event. Please bring a dish to share. Dinnerware will be provided.\nwww.PerfectPotluck.com/YIAT1376\nWe will have goodie bags and demos\, a playground and crafts for the kids!
URL:https://rochesterregionalbreastfeedingcoalition.com/event/roc-live-love-latch-3/
LOCATION:Tinker Nature Park\, 1525 Calkins Rd\, Tyler Pavillion\, Henrietta\, NY\, 14467\, United States
END:VEVENT
BEGIN:VEVENT
DTSTART;TZID=America/New_York:20170827T110000
DTEND;TZID=America/New_York:20170827T150000
DTSTAMP:20260419T154308
CREATED:20170818T192438Z
LAST-MODIFIED:20170818T192438Z
UID:5996-1503831600-1503846000@rochesterregionalbreastfeedingcoalition.com
SUMMARY:ROC Live\, Love Latch!
DESCRIPTION:Hosted by La Leche League of Rochester\, NY\nLa Leche League of Rochester is hosting this Live Love Latch in celebration of National Breastfeeding Month!\nAll in attendance will be counted as participants\, who declare their support of breastfeeding in their local community and beyond! Anyone will be counted\, whether breastfeeding or not.\nThis is a potluck event. Please bring a dish to share. Dinnerware will be provided.\nwww.PerfectPotluck.com/YIAT1376\nWe will have goodie bags and demos\, a playground and crafts for the kids!
URL:https://rochesterregionalbreastfeedingcoalition.com/event/roc-live-love-latch-2-2/
LOCATION:Tinker Nature Park\, 1525 Calkins Rd\, Tyler Pavillion\, Henrietta\, NY\, 14467\, United States
END:VEVENT
END:VCALENDAR