BEGIN:VCALENDAR
VERSION:2.0
PRODID:-//Rochester Regional Breastfeeding Coalition - ECPv6.15.17.1//NONSGML v1.0//EN
CALSCALE:GREGORIAN
METHOD:PUBLISH
X-ORIGINAL-URL:https://rochesterregionalbreastfeedingcoalition.com
X-WR-CALDESC:Events for Rochester Regional Breastfeeding Coalition
REFRESH-INTERVAL;VALUE=DURATION:PT1H
X-Robots-Tag:noindex
X-PUBLISHED-TTL:PT1H
BEGIN:VTIMEZONE
TZID:America/New_York
BEGIN:DAYLIGHT
TZOFFSETFROM:-0500
TZOFFSETTO:-0400
TZNAME:EDT
DTSTART:20170312T070000
END:DAYLIGHT
BEGIN:STANDARD
TZOFFSETFROM:-0400
TZOFFSETTO:-0500
TZNAME:EST
DTSTART:20171105T060000
END:STANDARD
BEGIN:DAYLIGHT
TZOFFSETFROM:-0500
TZOFFSETTO:-0400
TZNAME:EDT
DTSTART:20180311T070000
END:DAYLIGHT
BEGIN:STANDARD
TZOFFSETFROM:-0400
TZOFFSETTO:-0500
TZNAME:EST
DTSTART:20181104T060000
END:STANDARD
BEGIN:DAYLIGHT
TZOFFSETFROM:-0500
TZOFFSETTO:-0400
TZNAME:EDT
DTSTART:20190310T070000
END:DAYLIGHT
BEGIN:STANDARD
TZOFFSETFROM:-0400
TZOFFSETTO:-0500
TZNAME:EST
DTSTART:20191103T060000
END:STANDARD
END:VTIMEZONE
BEGIN:VEVENT
DTSTART;TZID=America/New_York:20180419T170000
DTEND;TZID=America/New_York:20180419T183000
DTSTAMP:20260421T131721
CREATED:20180108T175924Z
LAST-MODIFIED:20180108T175924Z
UID:5454-1524157200-1524162600@rochesterregionalbreastfeedingcoalition.com
SUMMARY:RRBC Monthly Meeting
DESCRIPTION:St. Mary’s Hospital West Auditorium
URL:https://rochesterregionalbreastfeedingcoalition.com/event/rrbc-monthly-meeting-24-2/
LOCATION:St. Mary's Hospital – Unity Health\, 89 Genesee Street\, Rochester\, NY\, 14611\, United States
END:VEVENT
BEGIN:VEVENT
DTSTART;TZID=America/New_York:20180419T170000
DTEND;TZID=America/New_York:20180419T183000
DTSTAMP:20260421T131721
CREATED:20180108T175924Z
LAST-MODIFIED:20180108T175924Z
UID:5998-1524157200-1524162600@rochesterregionalbreastfeedingcoalition.com
SUMMARY:RRBC Monthly Meeting
DESCRIPTION:St. Mary’s Hospital West Auditorium
URL:https://rochesterregionalbreastfeedingcoalition.com/event/rrbc-monthly-meeting-24-2-2/
LOCATION:St. Mary's Hospital – Unity Health\, 89 Genesee Street\, Rochester\, NY\, 14611\, United States
END:VEVENT
END:VCALENDAR