BEGIN:VCALENDAR
VERSION:2.0
PRODID:-//Rochester Regional Breastfeeding Coalition - ECPv6.15.17.1//NONSGML v1.0//EN
CALSCALE:GREGORIAN
METHOD:PUBLISH
X-ORIGINAL-URL:https://rochesterregionalbreastfeedingcoalition.com
X-WR-CALDESC:Events for Rochester Regional Breastfeeding Coalition
REFRESH-INTERVAL;VALUE=DURATION:PT1H
X-Robots-Tag:noindex
X-PUBLISHED-TTL:PT1H
BEGIN:VTIMEZONE
TZID:America/New_York
BEGIN:DAYLIGHT
TZOFFSETFROM:-0500
TZOFFSETTO:-0400
TZNAME:EDT
DTSTART:20230312T070000
END:DAYLIGHT
BEGIN:STANDARD
TZOFFSETFROM:-0400
TZOFFSETTO:-0500
TZNAME:EST
DTSTART:20231105T060000
END:STANDARD
BEGIN:DAYLIGHT
TZOFFSETFROM:-0500
TZOFFSETTO:-0400
TZNAME:EDT
DTSTART:20240310T070000
END:DAYLIGHT
BEGIN:STANDARD
TZOFFSETFROM:-0400
TZOFFSETTO:-0500
TZNAME:EST
DTSTART:20241103T060000
END:STANDARD
BEGIN:DAYLIGHT
TZOFFSETFROM:-0500
TZOFFSETTO:-0400
TZNAME:EDT
DTSTART:20250309T070000
END:DAYLIGHT
BEGIN:STANDARD
TZOFFSETFROM:-0400
TZOFFSETTO:-0500
TZNAME:EST
DTSTART:20251102T060000
END:STANDARD
END:VTIMEZONE
BEGIN:VEVENT
DTSTART;TZID=America/New_York:20240313T130000
DTEND;TZID=America/New_York:20240313T143000
DTSTAMP:20260420T152120
CREATED:20240307T181300Z
LAST-MODIFIED:20250529T121854Z
UID:9768-1710334800-1710340200@rochesterregionalbreastfeedingcoalition.com
SUMMARY:VIRTUAL ROC City Lactation Support-with Gender Wellness\, Obstetrics & Gynecology
DESCRIPTION:ROC City Lactation Support Groups are welcoming spaces where parents and caregivers can get support with breastfeeding\, chestfeeding\, and pumping. Whether you’re expecting a baby\, just starting your feeding journey\, or have been nursing for a while\, you’re welcome here! \nOur groups are led by trained lactation professionals and offer: \n\nA safe\, judgment-free environment\nPeer connection and shared experiences\nHelp with latching\, milk supply\, pumping\, returning to work\, and more\n\nCome as you are—babies\, partners\, and support people are always welcome! \nTime: Every Wednesday\, 1:00-2:30 PM (Closed on Holidays)\nJoin from your PC\, Mac\, Linux\, iOS or Android: https://urmc.zoom.us/j/443703723\nZoom Meeting ID: 443 703 723 \n  \nTo download ZOOM please click https://zoom.us/download
URL:https://rochesterregionalbreastfeedingcoalition.com/event/virtual-roc-city-baby-cafe-with-gender-wellness-obstetrics-gynecology/
LOCATION:Online
END:VEVENT
END:VCALENDAR