BEGIN:VCALENDAR
VERSION:2.0
PRODID:-//Rochester Regional Breastfeeding Coalition - ECPv6.15.17.1//NONSGML v1.0//EN
CALSCALE:GREGORIAN
METHOD:PUBLISH
X-WR-CALNAME:Rochester Regional Breastfeeding Coalition
X-ORIGINAL-URL:https://rochesterregionalbreastfeedingcoalition.com
X-WR-CALDESC:Events for Rochester Regional Breastfeeding Coalition
REFRESH-INTERVAL;VALUE=DURATION:PT1H
X-Robots-Tag:noindex
X-PUBLISHED-TTL:PT1H
BEGIN:VTIMEZONE
TZID:America/New_York
BEGIN:DAYLIGHT
TZOFFSETFROM:-0500
TZOFFSETTO:-0400
TZNAME:EDT
DTSTART:20160313T070000
END:DAYLIGHT
BEGIN:STANDARD
TZOFFSETFROM:-0400
TZOFFSETTO:-0500
TZNAME:EST
DTSTART:20161106T060000
END:STANDARD
BEGIN:DAYLIGHT
TZOFFSETFROM:-0500
TZOFFSETTO:-0400
TZNAME:EDT
DTSTART:20170312T070000
END:DAYLIGHT
BEGIN:STANDARD
TZOFFSETFROM:-0400
TZOFFSETTO:-0500
TZNAME:EST
DTSTART:20171105T060000
END:STANDARD
BEGIN:DAYLIGHT
TZOFFSETFROM:-0500
TZOFFSETTO:-0400
TZNAME:EDT
DTSTART:20180311T070000
END:DAYLIGHT
BEGIN:STANDARD
TZOFFSETFROM:-0400
TZOFFSETTO:-0500
TZNAME:EST
DTSTART:20181104T060000
END:STANDARD
BEGIN:DAYLIGHT
TZOFFSETFROM:-0500
TZOFFSETTO:-0400
TZNAME:EDT
DTSTART:20190310T070000
END:DAYLIGHT
BEGIN:STANDARD
TZOFFSETFROM:-0400
TZOFFSETTO:-0500
TZNAME:EST
DTSTART:20191103T060000
END:STANDARD
END:VTIMEZONE
BEGIN:VEVENT
DTSTART;TZID=America/New_York:20170825T080000
DTEND;TZID=America/New_York:20170831T170000
DTSTAMP:20260419T182829
CREATED:20170721T192925Z
LAST-MODIFIED:20170721T192925Z
UID:5110-1503648000-1504198800@rochesterregionalbreastfeedingcoalition.com
SUMMARY:4th Annual Black Breastfeeding Week
DESCRIPTION:This year’s theme is “bet on black\,” about “spotlighting the sweet joy of family bonds and perseverance.”
URL:https://rochesterregionalbreastfeedingcoalition.com/event/4th-annual-black-breastfeeding-week/
END:VEVENT
BEGIN:VEVENT
DTSTART;TZID=America/New_York:20170825T080000
DTEND;TZID=America/New_York:20170831T170000
DTSTAMP:20260419T182829
CREATED:20170721T192925Z
LAST-MODIFIED:20170721T192925Z
UID:5447-1503648000-1504198800@rochesterregionalbreastfeedingcoalition.com
SUMMARY:4th Annual Black Breastfeeding Week
DESCRIPTION:This year’s theme is “bet on black\,” about “spotlighting the sweet joy of family bonds and perseverance.”
URL:https://rochesterregionalbreastfeedingcoalition.com/event/4th-annual-black-breastfeeding-week-2/
END:VEVENT
BEGIN:VEVENT
DTSTART;TZID=America/New_York:20170825T080000
DTEND;TZID=America/New_York:20170831T170000
DTSTAMP:20260419T182829
CREATED:20170721T192925Z
LAST-MODIFIED:20170721T192925Z
UID:5972-1503648000-1504198800@rochesterregionalbreastfeedingcoalition.com
SUMMARY:4th Annual Black Breastfeeding Week
DESCRIPTION:This year’s theme is “bet on black\,” about “spotlighting the sweet joy of family bonds and perseverance.”
URL:https://rochesterregionalbreastfeedingcoalition.com/event/4th-annual-black-breastfeeding-week-3/
END:VEVENT
BEGIN:VEVENT
DTSTART;TZID=America/New_York:20170825T080000
DTEND;TZID=America/New_York:20170831T170000
DTSTAMP:20260419T182829
CREATED:20170721T192925Z
LAST-MODIFIED:20170721T192925Z
UID:5983-1503648000-1504198800@rochesterregionalbreastfeedingcoalition.com
SUMMARY:4th Annual Black Breastfeeding Week
DESCRIPTION:This year’s theme is “bet on black\,” about “spotlighting the sweet joy of family bonds and perseverance.”
URL:https://rochesterregionalbreastfeedingcoalition.com/event/4th-annual-black-breastfeeding-week-2-2/
END:VEVENT
BEGIN:VEVENT
DTSTART;TZID=America/New_York:20170921T170000
DTEND;TZID=America/New_York:20170921T183000
DTSTAMP:20260419T182829
CREATED:20161202T020138Z
LAST-MODIFIED:20161202T020138Z
UID:5051-1506013200-1506018600@rochesterregionalbreastfeedingcoalition.com
SUMMARY:RRBC Monthly Meeting
DESCRIPTION:
URL:https://rochesterregionalbreastfeedingcoalition.com/event/rrbc-monthly-meeting-17/
LOCATION:St. Mary's Hospital – Unity Health\, 89 Genesee Street\, Rochester\, NY\, 14611\, United States
END:VEVENT
BEGIN:VEVENT
DTSTART;TZID=America/New_York:20170921T170000
DTEND;TZID=America/New_York:20170921T183000
DTSTAMP:20260419T182829
CREATED:20161202T020138Z
LAST-MODIFIED:20161202T020138Z
UID:5421-1506013200-1506018600@rochesterregionalbreastfeedingcoalition.com
SUMMARY:RRBC Monthly Meeting
DESCRIPTION:
URL:https://rochesterregionalbreastfeedingcoalition.com/event/rrbc-monthly-meeting-17-2/
LOCATION:St. Mary's Hospital – Unity Health\, 89 Genesee Street\, Rochester\, NY\, 14611\, United States
END:VEVENT
BEGIN:VEVENT
DTSTART;TZID=America/New_York:20170921T170000
DTEND;TZID=America/New_York:20170921T183000
DTSTAMP:20260419T182829
CREATED:20161202T020138Z
LAST-MODIFIED:20161202T020138Z
UID:5928-1506013200-1506018600@rochesterregionalbreastfeedingcoalition.com
SUMMARY:RRBC Monthly Meeting
DESCRIPTION:
URL:https://rochesterregionalbreastfeedingcoalition.com/event/rrbc-monthly-meeting-17-3/
LOCATION:St. Mary's Hospital – Unity Health\, 89 Genesee Street\, Rochester\, NY\, 14611\, United States
END:VEVENT
BEGIN:VEVENT
DTSTART;TZID=America/New_York:20170921T170000
DTEND;TZID=America/New_York:20170921T183000
DTSTAMP:20260419T182830
CREATED:20161202T020138Z
LAST-MODIFIED:20161202T020138Z
UID:5940-1506013200-1506018600@rochesterregionalbreastfeedingcoalition.com
SUMMARY:RRBC Monthly Meeting
DESCRIPTION:
URL:https://rochesterregionalbreastfeedingcoalition.com/event/rrbc-monthly-meeting-17-2-2/
LOCATION:St. Mary's Hospital – Unity Health\, 89 Genesee Street\, Rochester\, NY\, 14611\, United States
END:VEVENT
BEGIN:VEVENT
DTSTART;TZID=America/New_York:20171019T170000
DTEND;TZID=America/New_York:20171019T183000
DTSTAMP:20260419T182830
CREATED:20161202T020301Z
LAST-MODIFIED:20161202T020301Z
UID:5052-1508432400-1508437800@rochesterregionalbreastfeedingcoalition.com
SUMMARY:RRBC Monthly Meeting
DESCRIPTION:
URL:https://rochesterregionalbreastfeedingcoalition.com/event/rrbc-monthly-meeting-18/
LOCATION:St. Mary's Hospital – Unity Health\, 89 Genesee Street\, Rochester\, NY\, 14611\, United States
END:VEVENT
BEGIN:VEVENT
DTSTART;TZID=America/New_York:20171019T170000
DTEND;TZID=America/New_York:20171019T183000
DTSTAMP:20260419T182830
CREATED:20161202T020301Z
LAST-MODIFIED:20161202T020301Z
UID:5422-1508432400-1508437800@rochesterregionalbreastfeedingcoalition.com
SUMMARY:RRBC Monthly Meeting
DESCRIPTION:
URL:https://rochesterregionalbreastfeedingcoalition.com/event/rrbc-monthly-meeting-18-2/
LOCATION:St. Mary's Hospital – Unity Health\, 89 Genesee Street\, Rochester\, NY\, 14611\, United States
END:VEVENT
BEGIN:VEVENT
DTSTART;TZID=America/New_York:20171019T170000
DTEND;TZID=America/New_York:20171019T183000
DTSTAMP:20260419T182830
CREATED:20161202T020301Z
LAST-MODIFIED:20161202T020301Z
UID:5929-1508432400-1508437800@rochesterregionalbreastfeedingcoalition.com
SUMMARY:RRBC Monthly Meeting
DESCRIPTION:
URL:https://rochesterregionalbreastfeedingcoalition.com/event/rrbc-monthly-meeting-18-3/
LOCATION:St. Mary's Hospital – Unity Health\, 89 Genesee Street\, Rochester\, NY\, 14611\, United States
END:VEVENT
BEGIN:VEVENT
DTSTART;TZID=America/New_York:20171019T170000
DTEND;TZID=America/New_York:20171019T183000
DTSTAMP:20260419T182830
CREATED:20161202T020301Z
LAST-MODIFIED:20161202T020301Z
UID:5941-1508432400-1508437800@rochesterregionalbreastfeedingcoalition.com
SUMMARY:RRBC Monthly Meeting
DESCRIPTION:
URL:https://rochesterregionalbreastfeedingcoalition.com/event/rrbc-monthly-meeting-18-2-2/
LOCATION:St. Mary's Hospital – Unity Health\, 89 Genesee Street\, Rochester\, NY\, 14611\, United States
END:VEVENT
BEGIN:VEVENT
DTSTART;TZID=America/New_York:20171019T170000
DTEND;TZID=America/New_York:20171019T183000
DTSTAMP:20260419T182830
CREATED:20161202T020418Z
LAST-MODIFIED:20161202T020418Z
UID:5053-1508432400-1508437800@rochesterregionalbreastfeedingcoalition.com
SUMMARY:RRBC Monthly Meeting
DESCRIPTION:
URL:https://rochesterregionalbreastfeedingcoalition.com/event/rrbc-monthly-meeting-19/
LOCATION:St. Mary's Hospital – Unity Health\, 89 Genesee Street\, Rochester\, NY\, 14611\, United States
END:VEVENT
BEGIN:VEVENT
DTSTART;TZID=America/New_York:20171019T170000
DTEND;TZID=America/New_York:20171019T183000
DTSTAMP:20260419T182830
CREATED:20161202T020418Z
LAST-MODIFIED:20161202T020418Z
UID:5930-1508432400-1508437800@rochesterregionalbreastfeedingcoalition.com
SUMMARY:RRBC Monthly Meeting
DESCRIPTION:
URL:https://rochesterregionalbreastfeedingcoalition.com/event/rrbc-monthly-meeting-19-2/
LOCATION:St. Mary's Hospital – Unity Health\, 89 Genesee Street\, Rochester\, NY\, 14611\, United States
END:VEVENT
BEGIN:VEVENT
DTSTART;TZID=America/New_York:20171116T170000
DTEND;TZID=America/New_York:20171116T183000
DTSTAMP:20260419T182830
CREATED:20161202T020533Z
LAST-MODIFIED:20161202T020533Z
UID:5054-1510851600-1510857000@rochesterregionalbreastfeedingcoalition.com
SUMMARY:RRBC Monthly Meeting
DESCRIPTION:
URL:https://rochesterregionalbreastfeedingcoalition.com/event/rrbc-monthly-meeting-20/
LOCATION:St. Mary's Hospital – Unity Health\, 89 Genesee Street\, Rochester\, NY\, 14611\, United States
END:VEVENT
BEGIN:VEVENT
DTSTART;TZID=America/New_York:20171116T170000
DTEND;TZID=America/New_York:20171116T183000
DTSTAMP:20260419T182830
CREATED:20161202T020533Z
LAST-MODIFIED:20161202T020533Z
UID:5931-1510851600-1510857000@rochesterregionalbreastfeedingcoalition.com
SUMMARY:RRBC Monthly Meeting
DESCRIPTION:
URL:https://rochesterregionalbreastfeedingcoalition.com/event/rrbc-monthly-meeting-20-2/
LOCATION:St. Mary's Hospital – Unity Health\, 89 Genesee Street\, Rochester\, NY\, 14611\, United States
END:VEVENT
BEGIN:VEVENT
DTSTART;TZID=America/New_York:20171221T170000
DTEND;TZID=America/New_York:20171221T183000
DTSTAMP:20260419T182830
CREATED:20161202T020714Z
LAST-MODIFIED:20161202T020714Z
UID:5055-1513875600-1513881000@rochesterregionalbreastfeedingcoalition.com
SUMMARY:RRBC Monthly Meeting
DESCRIPTION:
URL:https://rochesterregionalbreastfeedingcoalition.com/event/rrbc-monthly-meeting-21/
LOCATION:RRH – St. Mary’s Campus – West Auditorium\, 89 Genesee Street\, Rochester\, NY\, 14611\, United States
END:VEVENT
BEGIN:VEVENT
DTSTART;TZID=America/New_York:20171221T170000
DTEND;TZID=America/New_York:20171221T183000
DTSTAMP:20260419T182830
CREATED:20161202T020714Z
LAST-MODIFIED:20161202T020714Z
UID:5932-1513875600-1513881000@rochesterregionalbreastfeedingcoalition.com
SUMMARY:RRBC Monthly Meeting
DESCRIPTION:
URL:https://rochesterregionalbreastfeedingcoalition.com/event/rrbc-monthly-meeting-21-2/
LOCATION:RRH – St. Mary’s Campus – West Auditorium\, 89 Genesee Street\, Rochester\, NY\, 14611\, United States
END:VEVENT
BEGIN:VEVENT
DTSTART;TZID=America/New_York:20180118T170000
DTEND;TZID=America/New_York:20180118T183000
DTSTAMP:20260419T182830
CREATED:20180108T175208Z
LAST-MODIFIED:20180108T175208Z
UID:5242-1516294800-1516300200@rochesterregionalbreastfeedingcoalition.com
SUMMARY:RRBC January Monthly Meeting/Educational Opportunity
DESCRIPTION:Join us for the next meeting of the RRBC for a discussion on the topic\, “Historical and Ethical Perspectives on Informal Milk Sharing in the US: What’s an IBCLC to do?”\nPresenter: Casey Rosen-Carole\, MD\, MPH\, MSEd\, IBCLC\nThursday\, January 18\, 2018\n Cost: $10.00 cash (exact amount please) or check at the door payable to RRBC. (Includes light dinner)\n Time: 5pm-6:30\n Location: Unity/St. Mary’s –89 Genesee St. Rochester\, NY 14611\nWest Auditorium\n Parking: FREE onsite parking. Garage entrance on Genesee St.\n RSVP: By Friday January 12 with Name\, Address\, Phone\, Email to Kristine_Dibitetto@urmc.rochester.edu\n**Application has been made for IBCLE CERPs recognition.
URL:https://rochesterregionalbreastfeedingcoalition.com/event/rrbc-january-monthly-meeting-educational-opportunity/
LOCATION:St. Mary's Hospital – Unity Health\, 89 Genesee Street\, Rochester\, NY\, 14611\, United States
END:VEVENT
BEGIN:VEVENT
DTSTART;TZID=America/New_York:20180118T170000
DTEND;TZID=America/New_York:20180118T183000
DTSTAMP:20260419T182830
CREATED:20180108T175208Z
LAST-MODIFIED:20180108T175208Z
UID:5986-1516294800-1516300200@rochesterregionalbreastfeedingcoalition.com
SUMMARY:RRBC January Monthly Meeting/Educational Opportunity
DESCRIPTION:Join us for the next meeting of the RRBC for a discussion on the topic\, “Historical and Ethical Perspectives on Informal Milk Sharing in the US: What’s an IBCLC to do?”\nPresenter: Casey Rosen-Carole\, MD\, MPH\, MSEd\, IBCLC\nThursday\, January 18\, 2018\n Cost: $10.00 cash (exact amount please) or check at the door payable to RRBC. (Includes light dinner)\n Time: 5pm-6:30\n Location: Unity/St. Mary’s –89 Genesee St. Rochester\, NY 14611\nWest Auditorium\n Parking: FREE onsite parking. Garage entrance on Genesee St.\n RSVP: By Friday January 12 with Name\, Address\, Phone\, Email to Kristine_Dibitetto@urmc.rochester.edu\n**Application has been made for IBCLE CERPs recognition.
URL:https://rochesterregionalbreastfeedingcoalition.com/event/rrbc-january-monthly-meeting-educational-opportunity-2/
LOCATION:St. Mary's Hospital – Unity Health\, 89 Genesee Street\, Rochester\, NY\, 14611\, United States
END:VEVENT
BEGIN:VEVENT
DTSTART;TZID=America/New_York:20180215T170000
DTEND;TZID=America/New_York:20180215T183000
DTSTAMP:20260419T182830
CREATED:20180108T175551Z
LAST-MODIFIED:20180108T175551Z
UID:5244-1518714000-1518719400@rochesterregionalbreastfeedingcoalition.com
SUMMARY:RRBC Monthly Meeting
DESCRIPTION:West Auditorium
URL:https://rochesterregionalbreastfeedingcoalition.com/event/rrbc-monthly-meeting-22/
LOCATION:St. Mary's Hospital – Unity Health\, 89 Genesee Street\, Rochester\, NY\, 14611\, United States
END:VEVENT
BEGIN:VEVENT
DTSTART;TZID=America/New_York:20180215T170000
DTEND;TZID=America/New_York:20180215T183000
DTSTAMP:20260419T182830
CREATED:20180108T175551Z
LAST-MODIFIED:20180108T175551Z
UID:5987-1518714000-1518719400@rochesterregionalbreastfeedingcoalition.com
SUMMARY:RRBC Monthly Meeting
DESCRIPTION:West Auditorium
URL:https://rochesterregionalbreastfeedingcoalition.com/event/rrbc-monthly-meeting-22-2/
LOCATION:St. Mary's Hospital – Unity Health\, 89 Genesee Street\, Rochester\, NY\, 14611\, United States
END:VEVENT
BEGIN:VEVENT
DTSTART;TZID=America/New_York:20180307T130000
DTEND;TZID=America/New_York:20180307T150000
DTSTAMP:20260419T182830
CREATED:20180213T002718Z
LAST-MODIFIED:20180213T002718Z
UID:5517-1520427600-1520434800@rochesterregionalbreastfeedingcoalition.com
SUMMARY:Baby Cafe at UR Medicine's Women's Health Practice
DESCRIPTION:Come celebrate the opening of Rochester’s 1st Baby Cafe!\nLight refreshments served.\n \n 
URL:https://rochesterregionalbreastfeedingcoalition.com/event/baby-cafe-at-ur-medicines-womens-health-practice/
LOCATION:UR Women's Health Practice\, 125 Lattimore Rd.\, Suite 150\, Rochester\, NY\, 14620\, United States
END:VEVENT
BEGIN:VEVENT
DTSTART;TZID=America/New_York:20180307T130000
DTEND;TZID=America/New_York:20180307T150000
DTSTAMP:20260419T182830
CREATED:20180213T002718Z
LAST-MODIFIED:20180213T002718Z
UID:5999-1520427600-1520434800@rochesterregionalbreastfeedingcoalition.com
SUMMARY:Baby Cafe at UR Medicine's Women's Health Practice
DESCRIPTION:Come celebrate the opening of Rochester’s 1st Baby Cafe!\nLight refreshments served.\n \n 
URL:https://rochesterregionalbreastfeedingcoalition.com/event/baby-cafe-at-ur-medicines-womens-health-practice-2/
LOCATION:UR Women's Health Practice\, 125 Lattimore Rd.\, Suite 150\, Rochester\, NY\, 14620\, United States
END:VEVENT
BEGIN:VEVENT
DTSTART;TZID=America/New_York:20180313T103000
DTEND;TZID=America/New_York:20180313T120000
DTSTAMP:20260419T182830
CREATED:20180213T030110Z
LAST-MODIFIED:20180213T030110Z
UID:5539-1520937000-1520942400@rochesterregionalbreastfeedingcoalition.com
SUMMARY:Baby Cafe at Highland Hospital
DESCRIPTION:Come celebrate the Opening of one of Rochester’s newest Baby Cafe’s!!\nLight refreshments will be served.
URL:https://rochesterregionalbreastfeedingcoalition.com/event/baby-cafe-at-highland-hospital/
LOCATION:Highland Hospital\, 1000 South Avenue\, Rochester\, NY\, 14620\, United States
END:VEVENT
BEGIN:VEVENT
DTSTART;TZID=America/New_York:20180313T103000
DTEND;TZID=America/New_York:20180313T120000
DTSTAMP:20260419T182830
CREATED:20180213T030110Z
LAST-MODIFIED:20180213T030110Z
UID:6000-1520937000-1520942400@rochesterregionalbreastfeedingcoalition.com
SUMMARY:Baby Cafe at Highland Hospital
DESCRIPTION:Come celebrate the Opening of one of Rochester’s newest Baby Cafe’s!!\nLight refreshments will be served.
URL:https://rochesterregionalbreastfeedingcoalition.com/event/baby-cafe-at-highland-hospital-2/
LOCATION:Highland Hospital\, 1000 South Avenue\, Rochester\, NY\, 14620\, United States
END:VEVENT
BEGIN:VEVENT
DTSTART;TZID=America/New_York:20180315T170000
DTEND;TZID=America/New_York:20180315T183000
DTSTAMP:20260419T182830
CREATED:20180108T175725Z
LAST-MODIFIED:20180108T175725Z
UID:5453-1521133200-1521138600@rochesterregionalbreastfeedingcoalition.com
SUMMARY:RRBC Monthly Meeting
DESCRIPTION:St Mary’s West Auditorium
URL:https://rochesterregionalbreastfeedingcoalition.com/event/rrbc-monthly-meeting-23-2/
LOCATION:St. Mary's Hospital – Unity Health\, 89 Genesee Street\, Rochester\, NY\, 14611\, United States
END:VEVENT
BEGIN:VEVENT
DTSTART;TZID=America/New_York:20180315T170000
DTEND;TZID=America/New_York:20180315T183000
DTSTAMP:20260419T182830
CREATED:20180108T175725Z
LAST-MODIFIED:20180108T175725Z
UID:5997-1521133200-1521138600@rochesterregionalbreastfeedingcoalition.com
SUMMARY:RRBC Monthly Meeting
DESCRIPTION:St Mary’s West Auditorium
URL:https://rochesterregionalbreastfeedingcoalition.com/event/rrbc-monthly-meeting-23-2-2/
LOCATION:St. Mary's Hospital – Unity Health\, 89 Genesee Street\, Rochester\, NY\, 14611\, United States
END:VEVENT
BEGIN:VEVENT
DTSTART;TZID=America/New_York:20180321T130000
DTEND;TZID=America/New_York:20180321T150000
DTSTAMP:20260419T182830
CREATED:20180214T105943Z
LAST-MODIFIED:20180214T105943Z
UID:5545-1521637200-1521644400@rochesterregionalbreastfeedingcoalition.com
SUMMARY:Baby Cafe @ UR Medicine's Women's Health Practice
DESCRIPTION:Every 1st & 3rd Wednesday of the month.\nBreastfeeding education and support from a lactation specialist.\nLight refreshments served.
URL:https://rochesterregionalbreastfeedingcoalition.com/event/baby-cafe-ur-medicines-womens-health-practice/
LOCATION:UR Women's Health Practice\, 125 Lattimore Rd.\, Suite 150\, Rochester\, NY\, 14620\, United States
END:VEVENT
BEGIN:VEVENT
DTSTART;TZID=America/New_York:20180321T130000
DTEND;TZID=America/New_York:20180321T150000
DTSTAMP:20260419T182830
CREATED:20180214T105943Z
LAST-MODIFIED:20180214T105943Z
UID:6001-1521637200-1521644400@rochesterregionalbreastfeedingcoalition.com
SUMMARY:Baby Cafe @ UR Medicine's Women's Health Practice
DESCRIPTION:Every 1st & 3rd Wednesday of the month.\nBreastfeeding education and support from a lactation specialist.\nLight refreshments served.
URL:https://rochesterregionalbreastfeedingcoalition.com/event/baby-cafe-ur-medicines-womens-health-practice-2/
LOCATION:UR Women's Health Practice\, 125 Lattimore Rd.\, Suite 150\, Rochester\, NY\, 14620\, United States
END:VEVENT
END:VCALENDAR