BEGIN:VCALENDAR
VERSION:2.0
PRODID:-//Rochester Regional Breastfeeding Coalition - ECPv6.15.17.1//NONSGML v1.0//EN
CALSCALE:GREGORIAN
METHOD:PUBLISH
X-ORIGINAL-URL:https://rochesterregionalbreastfeedingcoalition.com
X-WR-CALDESC:Events for Rochester Regional Breastfeeding Coalition
REFRESH-INTERVAL;VALUE=DURATION:PT1H
X-Robots-Tag:noindex
X-PUBLISHED-TTL:PT1H
BEGIN:VTIMEZONE
TZID:America/New_York
BEGIN:DAYLIGHT
TZOFFSETFROM:-0500
TZOFFSETTO:-0400
TZNAME:EDT
DTSTART:20170312T070000
END:DAYLIGHT
BEGIN:STANDARD
TZOFFSETFROM:-0400
TZOFFSETTO:-0500
TZNAME:EST
DTSTART:20171105T060000
END:STANDARD
BEGIN:DAYLIGHT
TZOFFSETFROM:-0500
TZOFFSETTO:-0400
TZNAME:EDT
DTSTART:20180311T070000
END:DAYLIGHT
BEGIN:STANDARD
TZOFFSETFROM:-0400
TZOFFSETTO:-0500
TZNAME:EST
DTSTART:20181104T060000
END:STANDARD
BEGIN:DAYLIGHT
TZOFFSETFROM:-0500
TZOFFSETTO:-0400
TZNAME:EDT
DTSTART:20190310T070000
END:DAYLIGHT
BEGIN:STANDARD
TZOFFSETFROM:-0400
TZOFFSETTO:-0500
TZNAME:EST
DTSTART:20191103T060000
END:STANDARD
END:VTIMEZONE
BEGIN:VEVENT
DTSTART;TZID=America/New_York:20180118T170000
DTEND;TZID=America/New_York:20180118T183000
DTSTAMP:20260420T230242
CREATED:20180108T175208Z
LAST-MODIFIED:20180108T175208Z
UID:5242-1516294800-1516300200@rochesterregionalbreastfeedingcoalition.com
SUMMARY:RRBC January Monthly Meeting/Educational Opportunity
DESCRIPTION:Join us for the next meeting of the RRBC for a discussion on the topic\, “Historical and Ethical Perspectives on Informal Milk Sharing in the US: What’s an IBCLC to do?”\nPresenter: Casey Rosen-Carole\, MD\, MPH\, MSEd\, IBCLC\nThursday\, January 18\, 2018\n Cost: $10.00 cash (exact amount please) or check at the door payable to RRBC. (Includes light dinner)\n Time: 5pm-6:30\n Location: Unity/St. Mary’s –89 Genesee St. Rochester\, NY 14611\nWest Auditorium\n Parking: FREE onsite parking. Garage entrance on Genesee St.\n RSVP: By Friday January 12 with Name\, Address\, Phone\, Email to Kristine_Dibitetto@urmc.rochester.edu\n**Application has been made for IBCLE CERPs recognition.
URL:https://rochesterregionalbreastfeedingcoalition.com/event/rrbc-january-monthly-meeting-educational-opportunity/
LOCATION:St. Mary's Hospital – Unity Health\, 89 Genesee Street\, Rochester\, NY\, 14611\, United States
END:VEVENT
BEGIN:VEVENT
DTSTART;TZID=America/New_York:20180118T170000
DTEND;TZID=America/New_York:20180118T183000
DTSTAMP:20260420T230242
CREATED:20180108T175208Z
LAST-MODIFIED:20180108T175208Z
UID:5986-1516294800-1516300200@rochesterregionalbreastfeedingcoalition.com
SUMMARY:RRBC January Monthly Meeting/Educational Opportunity
DESCRIPTION:Join us for the next meeting of the RRBC for a discussion on the topic\, “Historical and Ethical Perspectives on Informal Milk Sharing in the US: What’s an IBCLC to do?”\nPresenter: Casey Rosen-Carole\, MD\, MPH\, MSEd\, IBCLC\nThursday\, January 18\, 2018\n Cost: $10.00 cash (exact amount please) or check at the door payable to RRBC. (Includes light dinner)\n Time: 5pm-6:30\n Location: Unity/St. Mary’s –89 Genesee St. Rochester\, NY 14611\nWest Auditorium\n Parking: FREE onsite parking. Garage entrance on Genesee St.\n RSVP: By Friday January 12 with Name\, Address\, Phone\, Email to Kristine_Dibitetto@urmc.rochester.edu\n**Application has been made for IBCLE CERPs recognition.
URL:https://rochesterregionalbreastfeedingcoalition.com/event/rrbc-january-monthly-meeting-educational-opportunity-2/
LOCATION:St. Mary's Hospital – Unity Health\, 89 Genesee Street\, Rochester\, NY\, 14611\, United States
END:VEVENT
END:VCALENDAR