BEGIN:VCALENDAR
VERSION:2.0
PRODID:-//Rochester Regional Breastfeeding Coalition - ECPv6.15.17.1//NONSGML v1.0//EN
CALSCALE:GREGORIAN
METHOD:PUBLISH
X-WR-CALNAME:Rochester Regional Breastfeeding Coalition
X-ORIGINAL-URL:https://rochesterregionalbreastfeedingcoalition.com
X-WR-CALDESC:Events for Rochester Regional Breastfeeding Coalition
REFRESH-INTERVAL;VALUE=DURATION:PT1H
X-Robots-Tag:noindex
X-PUBLISHED-TTL:PT1H
BEGIN:VTIMEZONE
TZID:America/New_York
BEGIN:DAYLIGHT
TZOFFSETFROM:-0500
TZOFFSETTO:-0400
TZNAME:EDT
DTSTART:20170312T070000
END:DAYLIGHT
BEGIN:STANDARD
TZOFFSETFROM:-0400
TZOFFSETTO:-0500
TZNAME:EST
DTSTART:20171105T060000
END:STANDARD
BEGIN:DAYLIGHT
TZOFFSETFROM:-0500
TZOFFSETTO:-0400
TZNAME:EDT
DTSTART:20180311T070000
END:DAYLIGHT
BEGIN:STANDARD
TZOFFSETFROM:-0400
TZOFFSETTO:-0500
TZNAME:EST
DTSTART:20181104T060000
END:STANDARD
BEGIN:DAYLIGHT
TZOFFSETFROM:-0500
TZOFFSETTO:-0400
TZNAME:EDT
DTSTART:20190310T070000
END:DAYLIGHT
BEGIN:STANDARD
TZOFFSETFROM:-0400
TZOFFSETTO:-0500
TZNAME:EST
DTSTART:20191103T060000
END:STANDARD
END:VTIMEZONE
BEGIN:VEVENT
DTSTART;TZID=America/New_York:20180404T130000
DTEND;TZID=America/New_York:20180404T150000
DTSTAMP:20260421T115233
CREATED:20180323T161549Z
LAST-MODIFIED:20180323T161549Z
UID:5551-1522846800-1522854000@rochesterregionalbreastfeedingcoalition.com
SUMMARY:Baby Cafe
DESCRIPTION:Baby Cafe is a network of breastfeeding drop-ins run by lactation specialists that are aimed to offer education and support to any pregnant woman or breastfeeding mom in the community\, at any stage in their breastfeeding journey. UR Medicine is pleased to announce we will be offering a Baby Café at two locations\n1st and 3rd Wednesday of every month1:00 – 3:00 p.m.UR Medicine’s Women’s Health Practice125 Lattimore Rd.\, Suite 150\, Rochester
URL:https://rochesterregionalbreastfeedingcoalition.com/event/baby-cafe/
LOCATION:UR Women's Health Practice\, 125 Lattimore Rd.\, Suite 150\, Rochester\, NY\, 14620\, United States
END:VEVENT
BEGIN:VEVENT
DTSTART;TZID=America/New_York:20180404T130000
DTEND;TZID=America/New_York:20180404T150000
DTSTAMP:20260421T115233
CREATED:20180323T161549Z
LAST-MODIFIED:20180323T161549Z
UID:6002-1522846800-1522854000@rochesterregionalbreastfeedingcoalition.com
SUMMARY:Baby Cafe
DESCRIPTION:Baby Cafe is a network of breastfeeding drop-ins run by lactation specialists that are aimed to offer education and support to any pregnant woman or breastfeeding mom in the community\, at any stage in their breastfeeding journey. UR Medicine is pleased to announce we will be offering a Baby Café at two locations\n1st and 3rd Wednesday of every month1:00 – 3:00 p.m.UR Medicine’s Women’s Health Practice125 Lattimore Rd.\, Suite 150\, Rochester
URL:https://rochesterregionalbreastfeedingcoalition.com/event/baby-cafe-4/
LOCATION:UR Women's Health Practice\, 125 Lattimore Rd.\, Suite 150\, Rochester\, NY\, 14620\, United States
END:VEVENT
BEGIN:VEVENT
DTSTART;TZID=America/New_York:20180405T080000
DTEND;TZID=America/New_York:20180412T233000
DTSTAMP:20260421T115233
CREATED:20180405T020407Z
LAST-MODIFIED:20180405T020407Z
UID:5567-1522915200-1523575800@rochesterregionalbreastfeedingcoalition.com
SUMMARY:Webinar: "Understanding The Infant Microbiome"
DESCRIPTION:FREE evidence-based 60 minute webinar for health professionals\nFREE MASTERCLASS WEBINAR:\n5-12th April 2018\nWant to feel more confident when asked about the infant microbiome and earn FREE CE credits?\n* It’s available to watch anytime between 5th-12th April 2018\n* It’s designed to help health professionals feel more confident when asked about the infant microbiome during pregnancy\, birth and breastfeeding\n* It’s evidence-based and easy-to-understand\n* It features 7 world-leading professors\n* It’s approved for 1 L-CERP by IBLCE\n* It’s also approved for 1 CPD HOUR by the Australian College of Midwives (ACM)\n* It’s 100% free
URL:https://rochesterregionalbreastfeedingcoalition.com/event/https-microbirth-teachable-com-p-free/
LOCATION:Online
END:VEVENT
BEGIN:VEVENT
DTSTART;TZID=America/New_York:20180405T080000
DTEND;TZID=America/New_York:20180412T233000
DTSTAMP:20260421T115233
CREATED:20180405T020407Z
LAST-MODIFIED:20180405T020407Z
UID:6006-1522915200-1523575800@rochesterregionalbreastfeedingcoalition.com
SUMMARY:Webinar: "Understanding The Infant Microbiome"
DESCRIPTION:FREE evidence-based 60 minute webinar for health professionals\nFREE MASTERCLASS WEBINAR:\n5-12th April 2018\nWant to feel more confident when asked about the infant microbiome and earn FREE CE credits?\n* It’s available to watch anytime between 5th-12th April 2018\n* It’s designed to help health professionals feel more confident when asked about the infant microbiome during pregnancy\, birth and breastfeeding\n* It’s evidence-based and easy-to-understand\n* It features 7 world-leading professors\n* It’s approved for 1 L-CERP by IBLCE\n* It’s also approved for 1 CPD HOUR by the Australian College of Midwives (ACM)\n* It’s 100% free
URL:https://rochesterregionalbreastfeedingcoalition.com/event/https-microbirth-teachable-com-p-free-2/
LOCATION:Online
END:VEVENT
BEGIN:VEVENT
DTSTART;TZID=America/New_York:20180411T103000
DTEND;TZID=America/New_York:20180411T120000
DTSTAMP:20260421T115233
CREATED:20180323T164512Z
LAST-MODIFIED:20180323T164512Z
UID:5557-1523442600-1523448000@rochesterregionalbreastfeedingcoalition.com
SUMMARY:Baby Cafe
DESCRIPTION:Baby cafe is a network of breastfeeding drop-ins run by lactation specialists that are aimed to offer education and support to any pregnant woman or breastfeeding mom in the community\, at any stage in their breastfeeding journey.\n2nd Tuesday of every month 10:30 a.m. – 12:00 p.m.Highland Hospital (Roberson Room)1000 South Avenue\, RochesterMeghan Mueller\, RD\, IBCLCDarla Teravainan\, RN\,IBCLC(585) 341-6808
URL:https://rochesterregionalbreastfeedingcoalition.com/event/baby-cafe-3/
LOCATION:Highland Hospital\, Roberson Room\, 1000 South Avenue\, Rochester\, NY\, United States
END:VEVENT
BEGIN:VEVENT
DTSTART;TZID=America/New_York:20180411T103000
DTEND;TZID=America/New_York:20180411T120000
DTSTAMP:20260421T115233
CREATED:20180323T164512Z
LAST-MODIFIED:20180323T164512Z
UID:6004-1523442600-1523448000@rochesterregionalbreastfeedingcoalition.com
SUMMARY:Baby Cafe
DESCRIPTION:Baby cafe is a network of breastfeeding drop-ins run by lactation specialists that are aimed to offer education and support to any pregnant woman or breastfeeding mom in the community\, at any stage in their breastfeeding journey.\n2nd Tuesday of every month 10:30 a.m. – 12:00 p.m.Highland Hospital (Roberson Room)1000 South Avenue\, RochesterMeghan Mueller\, RD\, IBCLCDarla Teravainan\, RN\,IBCLC(585) 341-6808
URL:https://rochesterregionalbreastfeedingcoalition.com/event/baby-cafe-3-2/
LOCATION:Highland Hospital\, Roberson Room\, 1000 South Avenue\, Rochester\, NY\, United States
END:VEVENT
BEGIN:VEVENT
DTSTART;TZID=America/New_York:20180415T100000
DTEND;TZID=America/New_York:20180415T110000
DTSTAMP:20260421T115233
CREATED:20180405T011751Z
LAST-MODIFIED:20180405T011751Z
UID:5562-1523786400-1523790000@rochesterregionalbreastfeedingcoalition.com
SUMMARY:Bilingual Interview on Breastfeeding on 97.1FM
DESCRIPTION:Bilingual interview with Casey and Rose – with Ida Perez will be aired on Sunday\, April 15th. The show will broadcast on 97.1FM at 10AM that morning.
URL:https://rochesterregionalbreastfeedingcoalition.com/event/bilingual-interview-on-breastfeeding-on-97-1fm/
LOCATION:97.1FM\, Rochester\, United States
ORGANIZER;CN="RRBC":MAILTO: amy.saglibene-parmelee@rochesterregional.org
END:VEVENT
BEGIN:VEVENT
DTSTART;TZID=America/New_York:20180415T100000
DTEND;TZID=America/New_York:20180415T110000
DTSTAMP:20260421T115233
CREATED:20180405T011751Z
LAST-MODIFIED:20180405T011751Z
UID:6005-1523786400-1523790000@rochesterregionalbreastfeedingcoalition.com
SUMMARY:Bilingual Interview on Breastfeeding on 97.1FM
DESCRIPTION:Bilingual interview with Casey and Rose – with Ida Perez will be aired on Sunday\, April 15th. The show will broadcast on 97.1FM at 10AM that morning.
URL:https://rochesterregionalbreastfeedingcoalition.com/event/bilingual-interview-on-breastfeeding-on-97-1fm-2/
LOCATION:97.1FM\, Rochester\, United States
ORGANIZER;CN="RRBC":MAILTO: amy.saglibene-parmelee@rochesterregional.org
END:VEVENT
BEGIN:VEVENT
DTSTART;TZID=America/New_York:20180418T130000
DTEND;TZID=America/New_York:20180418T150000
DTSTAMP:20260421T115233
CREATED:20180323T163542Z
LAST-MODIFIED:20180323T163542Z
UID:5554-1524056400-1524063600@rochesterregionalbreastfeedingcoalition.com
SUMMARY:Baby Cafe
DESCRIPTION:Baby Cafe is a network of breastfeeding drop-ins run by lactation specialists that are aimed to offer education and support to any pregnant woman or breastfeeding mom in the community\, at any stage in their breastfeeding journey.\n UR Medicine is pleased to announce we will be offering a Baby Café at two locations: Beginning March 7\, 2018\n1st and 3rd Wednesday of every month1:00 – 3:00 p.m.UR Medicine’s Women’s Health Practice125 Lattimore Rd.\, Suite 150\, Rochester\nSarah Hyatt\, RN\, CLC(585) 275-2691
URL:https://rochesterregionalbreastfeedingcoalition.com/event/baby-cafe-2/
LOCATION:UR Women's Health Practice\, 125 Lattimore Rd.\, Suite 150\, Rochester\, NY\, 14620\, United States
END:VEVENT
BEGIN:VEVENT
DTSTART;TZID=America/New_York:20180418T130000
DTEND;TZID=America/New_York:20180418T150000
DTSTAMP:20260421T115233
CREATED:20180323T163542Z
LAST-MODIFIED:20180323T163542Z
UID:6003-1524056400-1524063600@rochesterregionalbreastfeedingcoalition.com
SUMMARY:Baby Cafe
DESCRIPTION:Baby Cafe is a network of breastfeeding drop-ins run by lactation specialists that are aimed to offer education and support to any pregnant woman or breastfeeding mom in the community\, at any stage in their breastfeeding journey.\n UR Medicine is pleased to announce we will be offering a Baby Café at two locations: Beginning March 7\, 2018\n1st and 3rd Wednesday of every month1:00 – 3:00 p.m.UR Medicine’s Women’s Health Practice125 Lattimore Rd.\, Suite 150\, Rochester\nSarah Hyatt\, RN\, CLC(585) 275-2691
URL:https://rochesterregionalbreastfeedingcoalition.com/event/baby-cafe-2-2/
LOCATION:UR Women's Health Practice\, 125 Lattimore Rd.\, Suite 150\, Rochester\, NY\, 14620\, United States
END:VEVENT
BEGIN:VEVENT
DTSTART;TZID=America/New_York:20180419T170000
DTEND;TZID=America/New_York:20180419T183000
DTSTAMP:20260421T115233
CREATED:20180108T175924Z
LAST-MODIFIED:20180108T175924Z
UID:5454-1524157200-1524162600@rochesterregionalbreastfeedingcoalition.com
SUMMARY:RRBC Monthly Meeting
DESCRIPTION:St. Mary’s Hospital West Auditorium
URL:https://rochesterregionalbreastfeedingcoalition.com/event/rrbc-monthly-meeting-24-2/
LOCATION:St. Mary's Hospital – Unity Health\, 89 Genesee Street\, Rochester\, NY\, 14611\, United States
END:VEVENT
BEGIN:VEVENT
DTSTART;TZID=America/New_York:20180419T170000
DTEND;TZID=America/New_York:20180419T183000
DTSTAMP:20260421T115233
CREATED:20180108T175924Z
LAST-MODIFIED:20180108T175924Z
UID:5998-1524157200-1524162600@rochesterregionalbreastfeedingcoalition.com
SUMMARY:RRBC Monthly Meeting
DESCRIPTION:St. Mary’s Hospital West Auditorium
URL:https://rochesterregionalbreastfeedingcoalition.com/event/rrbc-monthly-meeting-24-2-2/
LOCATION:St. Mary's Hospital – Unity Health\, 89 Genesee Street\, Rochester\, NY\, 14611\, United States
END:VEVENT
END:VCALENDAR