BEGIN:VCALENDAR
VERSION:2.0
PRODID:-//Rochester Regional Breastfeeding Coalition - ECPv6.15.17.1//NONSGML v1.0//EN
CALSCALE:GREGORIAN
METHOD:PUBLISH
X-WR-CALNAME:Rochester Regional Breastfeeding Coalition
X-ORIGINAL-URL:https://rochesterregionalbreastfeedingcoalition.com
X-WR-CALDESC:Events for Rochester Regional Breastfeeding Coalition
REFRESH-INTERVAL;VALUE=DURATION:PT1H
X-Robots-Tag:noindex
X-PUBLISHED-TTL:PT1H
BEGIN:VTIMEZONE
TZID:America/New_York
BEGIN:DAYLIGHT
TZOFFSETFROM:-0500
TZOFFSETTO:-0400
TZNAME:EDT
DTSTART:20170312T070000
END:DAYLIGHT
BEGIN:STANDARD
TZOFFSETFROM:-0400
TZOFFSETTO:-0500
TZNAME:EST
DTSTART:20171105T060000
END:STANDARD
BEGIN:DAYLIGHT
TZOFFSETFROM:-0500
TZOFFSETTO:-0400
TZNAME:EDT
DTSTART:20180311T070000
END:DAYLIGHT
BEGIN:STANDARD
TZOFFSETFROM:-0400
TZOFFSETTO:-0500
TZNAME:EST
DTSTART:20181104T060000
END:STANDARD
BEGIN:DAYLIGHT
TZOFFSETFROM:-0500
TZOFFSETTO:-0400
TZNAME:EDT
DTSTART:20190310T070000
END:DAYLIGHT
BEGIN:STANDARD
TZOFFSETFROM:-0400
TZOFFSETTO:-0500
TZNAME:EST
DTSTART:20191103T060000
END:STANDARD
END:VTIMEZONE
BEGIN:VEVENT
DTSTART;TZID=America/New_York:20180517T170000
DTEND;TZID=America/New_York:20180517T183000
DTSTAMP:20260421T161914
CREATED:20180108T180122Z
LAST-MODIFIED:20180108T180122Z
UID:5250-1526576400-1526581800@rochesterregionalbreastfeedingcoalition.com
SUMMARY:RRBC Monthly Meeting
DESCRIPTION:St. Mary’s Hospital\, West Auditorium
URL:https://rochesterregionalbreastfeedingcoalition.com/event/rrbc-monthly-meeting-25/
LOCATION:RRH – St. Mary’s Campus – West Auditorium\, 89 Genesee Street\, Rochester\, NY\, 14611\, United States
END:VEVENT
BEGIN:VEVENT
DTSTART;TZID=America/New_York:20180517T170000
DTEND;TZID=America/New_York:20180517T183000
DTSTAMP:20260421T161914
CREATED:20180108T180122Z
LAST-MODIFIED:20180108T180122Z
UID:5988-1526576400-1526581800@rochesterregionalbreastfeedingcoalition.com
SUMMARY:RRBC Monthly Meeting
DESCRIPTION:St. Mary’s Hospital\, West Auditorium
URL:https://rochesterregionalbreastfeedingcoalition.com/event/rrbc-monthly-meeting-25-2/
LOCATION:RRH – St. Mary’s Campus – West Auditorium\, 89 Genesee Street\, Rochester\, NY\, 14611\, United States
END:VEVENT
BEGIN:VEVENT
DTSTART;TZID=America/New_York:20180517T170000
DTEND;TZID=America/New_York:20180517T190000
DTSTAMP:20260421T161914
CREATED:20180504T003408Z
LAST-MODIFIED:20180504T003408Z
UID:5616-1526576400-1526583600@rochesterregionalbreastfeedingcoalition.com
SUMMARY:E-CERPs Educational Event
DESCRIPTION:Ethics and Breastfeeding Series\, #2:\nAddressing the Practice Barriers to Breastfeeding Support for Women Who Identify as Black or African American\nPresenter: Casey Rosen-Carole MD\, MPH\, MSEd\, IBCLC\nFee: $10.00 at the door (check made out to RRBC or exact change)\nDinner: light dinner included\n1.5 E-CERPs have been approved\nRSVP by May 11th to kristine_dibitetto@urmc.rochester.edu with subject line Name\, Address & Phone
URL:https://rochesterregionalbreastfeedingcoalition.com/event/e-cerps-educational-event/
LOCATION:St. Mary's Hospital – Unity Health\, 89 Genesee Street\, Rochester\, NY\, 14611\, United States
ORGANIZER;CN="RRBC":MAILTO: amy.saglibene-parmelee@rochesterregional.org
END:VEVENT
END:VCALENDAR